BEGIN:VCALENDAR
VERSION:2.0
PRODID:-//Marshfield Fair - ECPv6.15.18//NONSGML v1.0//EN
CALSCALE:GREGORIAN
METHOD:PUBLISH
X-ORIGINAL-URL:https://marshfieldfair.org
X-WR-CALDESC:Events for Marshfield Fair
REFRESH-INTERVAL;VALUE=DURATION:PT1H
X-Robots-Tag:noindex
X-PUBLISHED-TTL:PT1H
BEGIN:VTIMEZONE
TZID:America/New_York
BEGIN:DAYLIGHT
TZOFFSETFROM:-0500
TZOFFSETTO:-0400
TZNAME:EDT
DTSTART:20200308T070000
END:DAYLIGHT
BEGIN:STANDARD
TZOFFSETFROM:-0400
TZOFFSETTO:-0500
TZNAME:EST
DTSTART:20201101T060000
END:STANDARD
BEGIN:DAYLIGHT
TZOFFSETFROM:-0500
TZOFFSETTO:-0400
TZNAME:EDT
DTSTART:20210314T070000
END:DAYLIGHT
BEGIN:STANDARD
TZOFFSETFROM:-0400
TZOFFSETTO:-0500
TZNAME:EST
DTSTART:20211107T060000
END:STANDARD
BEGIN:DAYLIGHT
TZOFFSETFROM:-0500
TZOFFSETTO:-0400
TZNAME:EDT
DTSTART:20220313T070000
END:DAYLIGHT
BEGIN:STANDARD
TZOFFSETFROM:-0400
TZOFFSETTO:-0500
TZNAME:EST
DTSTART:20221106T060000
END:STANDARD
BEGIN:DAYLIGHT
TZOFFSETFROM:-0500
TZOFFSETTO:-0400
TZNAME:EDT
DTSTART:20230312T070000
END:DAYLIGHT
BEGIN:STANDARD
TZOFFSETFROM:-0400
TZOFFSETTO:-0500
TZNAME:EST
DTSTART:20231105T060000
END:STANDARD
END:VTIMEZONE
BEGIN:VEVENT
DTSTART;TZID=America/New_York:20220812T140000
DTEND;TZID=America/New_York:20220812T180000
DTSTAMP:20260419T092237
CREATED:20211002T014632Z
LAST-MODIFIED:20220708T015448Z
UID:10000006-1660312800-1660327200@marshfieldfair.org
SUMMARY:Walk-in Farmers' Market at the Grandstands
DESCRIPTION:Live walk-in and Pre-order for pick up market\nLive Music\nIndoor/Outdoor\, at the grandstand
URL:https://marshfieldfair.org/event/marshfield-farmers-market/2022-08-12/
LOCATION:Gate A\, Marshfield Fairgrounds\, 140 Main St.\, Marshfield\, MA\, 02050\, United States
GEO:42.0991716;-70.7178504
X-APPLE-STRUCTURED-LOCATION;VALUE=URI;X-ADDRESS=Gate A Marshfield Fairgrounds 140 Main St. Marshfield MA 02050 United States;X-APPLE-RADIUS=500;X-TITLE=140 Main St.:geo:-70.7178504,42.0991716
END:VEVENT
BEGIN:VEVENT
DTSTART;TZID=America/New_York:20220805T140000
DTEND;TZID=America/New_York:20220805T180000
DTSTAMP:20260419T092237
CREATED:20211002T014632Z
LAST-MODIFIED:20220708T015448Z
UID:10000005-1659708000-1659722400@marshfieldfair.org
SUMMARY:Walk-in Farmers' Market at the Grandstands
DESCRIPTION:Live walk-in and Pre-order for pick up market\nLive Music\nIndoor/Outdoor\, at the grandstand
URL:https://marshfieldfair.org/event/marshfield-farmers-market/2022-08-05/
LOCATION:Gate A\, Marshfield Fairgrounds\, 140 Main St.\, Marshfield\, MA\, 02050\, United States
GEO:42.0991716;-70.7178504
X-APPLE-STRUCTURED-LOCATION;VALUE=URI;X-ADDRESS=Gate A Marshfield Fairgrounds 140 Main St. Marshfield MA 02050 United States;X-APPLE-RADIUS=500;X-TITLE=140 Main St.:geo:-70.7178504,42.0991716
END:VEVENT
BEGIN:VEVENT
DTSTART;TZID=America/New_York:20220729T140000
DTEND;TZID=America/New_York:20220729T180000
DTSTAMP:20260419T092237
CREATED:20211002T014632Z
LAST-MODIFIED:20220708T015448Z
UID:10000004-1659103200-1659117600@marshfieldfair.org
SUMMARY:Walk-in Farmers' Market at the Grandstands
DESCRIPTION:Live walk-in and Pre-order for pick up market\nLive Music\nIndoor/Outdoor\, at the grandstand
URL:https://marshfieldfair.org/event/marshfield-farmers-market/2022-07-29/
LOCATION:Gate A\, Marshfield Fairgrounds\, 140 Main St.\, Marshfield\, MA\, 02050\, United States
GEO:42.0991716;-70.7178504
X-APPLE-STRUCTURED-LOCATION;VALUE=URI;X-ADDRESS=Gate A Marshfield Fairgrounds 140 Main St. Marshfield MA 02050 United States;X-APPLE-RADIUS=500;X-TITLE=140 Main St.:geo:-70.7178504,42.0991716
END:VEVENT
BEGIN:VEVENT
DTSTART;TZID=America/New_York:20220722T140000
DTEND;TZID=America/New_York:20220722T180000
DTSTAMP:20260419T092237
CREATED:20211002T014632Z
LAST-MODIFIED:20220708T015448Z
UID:10000003-1658498400-1658512800@marshfieldfair.org
SUMMARY:Walk-in Farmers' Market at the Grandstands
DESCRIPTION:Live walk-in and Pre-order for pick up market\nLive Music\nIndoor/Outdoor\, at the grandstand
URL:https://marshfieldfair.org/event/marshfield-farmers-market/2022-07-22/
LOCATION:Gate A\, Marshfield Fairgrounds\, 140 Main St.\, Marshfield\, MA\, 02050\, United States
GEO:42.0991716;-70.7178504
X-APPLE-STRUCTURED-LOCATION;VALUE=URI;X-ADDRESS=Gate A Marshfield Fairgrounds 140 Main St. Marshfield MA 02050 United States;X-APPLE-RADIUS=500;X-TITLE=140 Main St.:geo:-70.7178504,42.0991716
END:VEVENT
BEGIN:VEVENT
DTSTART;TZID=America/New_York:20220716T100000
DTEND;TZID=America/New_York:20220716T130000
DTSTAMP:20260419T092237
CREATED:20230329T164945Z
LAST-MODIFIED:20250705T205615Z
UID:10000013-1657965600-1657976400@marshfieldfair.org
SUMMARY:Walk-in Farmers' Market at the Grandstands
DESCRIPTION:Live walk-in and Pre-order for pick up market\nLive Music\nIndoor/Outdoor\, at the grandstand
URL:https://marshfieldfair.org/event/marshfield-farmers-market-2/2022-07-16/2/
LOCATION:Gate A\, Marshfield Fairgrounds\, 140 Main St.\, Marshfield\, MA\, 02050\, United States
GEO:42.0991716;-70.7178504
X-APPLE-STRUCTURED-LOCATION;VALUE=URI;X-ADDRESS=Gate A Marshfield Fairgrounds 140 Main St. Marshfield MA 02050 United States;X-APPLE-RADIUS=500;X-TITLE=140 Main St.:geo:-70.7178504,42.0991716
END:VEVENT
BEGIN:VEVENT
DTSTART;TZID=America/New_York:20220716T080000
DTEND;TZID=America/New_York:20220716T170000
DTSTAMP:20260419T092237
CREATED:20230329T164945Z
LAST-MODIFIED:20250705T205615Z
UID:10000300-1657958400-1657990800@marshfieldfair.org
SUMMARY:Walk-in Farmers' Market at the Grandstands
DESCRIPTION:Live walk-in and Pre-order for pick up market\nLive Music\nIndoor/Outdoor\, at the grandstand
URL:https://marshfieldfair.org/event/marshfield-farmers-market-2/2022-07-16/1/
LOCATION:Gate A\, Marshfield Fairgrounds\, 140 Main St.\, Marshfield\, MA\, 02050\, United States
GEO:42.0991716;-70.7178504
X-APPLE-STRUCTURED-LOCATION;VALUE=URI;X-ADDRESS=Gate A Marshfield Fairgrounds 140 Main St. Marshfield MA 02050 United States;X-APPLE-RADIUS=500;X-TITLE=140 Main St.:geo:-70.7178504,42.0991716
END:VEVENT
BEGIN:VEVENT
DTSTART;TZID=America/New_York:20220715T140000
DTEND;TZID=America/New_York:20220715T180000
DTSTAMP:20260419T092237
CREATED:20211002T014632Z
LAST-MODIFIED:20220708T015448Z
UID:10000002-1657893600-1657908000@marshfieldfair.org
SUMMARY:Walk-in Farmers' Market at the Grandstands
DESCRIPTION:Live walk-in and Pre-order for pick up market\nLive Music\nIndoor/Outdoor\, at the grandstand
URL:https://marshfieldfair.org/event/marshfield-farmers-market/2022-07-15/
LOCATION:Gate A\, Marshfield Fairgrounds\, 140 Main St.\, Marshfield\, MA\, 02050\, United States
GEO:42.0991716;-70.7178504
X-APPLE-STRUCTURED-LOCATION;VALUE=URI;X-ADDRESS=Gate A Marshfield Fairgrounds 140 Main St. Marshfield MA 02050 United States;X-APPLE-RADIUS=500;X-TITLE=140 Main St.:geo:-70.7178504,42.0991716
END:VEVENT
BEGIN:VEVENT
DTSTART;TZID=America/New_York:20220708T140000
DTEND;TZID=America/New_York:20220708T180000
DTSTAMP:20260419T092237
CREATED:20211002T014632Z
LAST-MODIFIED:20220708T015448Z
UID:10000001-1657288800-1657303200@marshfieldfair.org
SUMMARY:Walk-in Farmers' Market at the Grandstands
DESCRIPTION:Live walk-in and Pre-order for pick up market\nLive Music\nIndoor/Outdoor\, at the grandstand
URL:https://marshfieldfair.org/event/marshfield-farmers-market/2022-07-08/
LOCATION:Gate A\, Marshfield Fairgrounds\, 140 Main St.\, Marshfield\, MA\, 02050\, United States
GEO:42.0991716;-70.7178504
X-APPLE-STRUCTURED-LOCATION;VALUE=URI;X-ADDRESS=Gate A Marshfield Fairgrounds 140 Main St. Marshfield MA 02050 United States;X-APPLE-RADIUS=500;X-TITLE=140 Main St.:geo:-70.7178504,42.0991716
END:VEVENT
BEGIN:VEVENT
DTSTART;TZID=America/New_York:20210827T140000
DTEND;TZID=America/New_York:20210827T180000
DTSTAMP:20260419T092237
CREATED:20210517T011144Z
LAST-MODIFIED:20210703T015620Z
UID:10000057-1630072800-1630087200@marshfieldfair.org
SUMMARY:Live walk-in Farmers' Market 2-6 pm
DESCRIPTION:Farmers Market is on the town green today 2-6 pm (Corner of Moraine/Ocean St)
URL:https://marshfieldfair.org/event/live-walk-in-farmers-market-2-6-pm-2021-08-27/
LOCATION:Gate A\, Marshfield Fairgrounds\, 140 Main St.\, Marshfield\, MA\, 02050\, United States
ORGANIZER;CN="Marshfield Agricultural and Horticultural Society":MAILTO:farmersmarket@marshfieldfair.org
GEO:42.0991716;-70.7178504
X-APPLE-STRUCTURED-LOCATION;VALUE=URI;X-ADDRESS=Gate A Marshfield Fairgrounds 140 Main St. Marshfield MA 02050 United States;X-APPLE-RADIUS=500;X-TITLE=140 Main St.:geo:-70.7178504,42.0991716
END:VEVENT
BEGIN:VEVENT
DTSTART;TZID=America/New_York:20210820T140000
DTEND;TZID=America/New_York:20210820T180000
DTSTAMP:20260419T092237
CREATED:20210517T011144Z
LAST-MODIFIED:20210703T015311Z
UID:10000056-1629468000-1629482400@marshfieldfair.org
SUMMARY:Live walk-in Farmers' Market 2-6 pm
DESCRIPTION:Farmers Market on the Town Green 2-6 pm (Corner of Moraine/Ocean St)
URL:https://marshfieldfair.org/event/live-walk-in-farmers-market-2-6-pm-2021-08-20/
LOCATION:Gate A\, Marshfield Fairgrounds\, 140 Main St.\, Marshfield\, MA\, 02050\, United States
ORGANIZER;CN="Marshfield Agricultural and Horticultural Society":MAILTO:farmersmarket@marshfieldfair.org
GEO:42.0991716;-70.7178504
X-APPLE-STRUCTURED-LOCATION;VALUE=URI;X-ADDRESS=Gate A Marshfield Fairgrounds 140 Main St. Marshfield MA 02050 United States;X-APPLE-RADIUS=500;X-TITLE=140 Main St.:geo:-70.7178504,42.0991716
END:VEVENT
BEGIN:VEVENT
DTSTART;TZID=America/New_York:20210806T140000
DTEND;TZID=America/New_York:20210806T180000
DTSTAMP:20260419T092237
CREATED:20210517T011144Z
LAST-MODIFIED:20210703T015132Z
UID:10000055-1628258400-1628272800@marshfieldfair.org
SUMMARY:Live walk-in Farmers' Market 2-6 pm
DESCRIPTION:Farmers Market is on the Town Green with 20 vendors 2-6 pm today (corner of Moraine/Ocean St)
URL:https://marshfieldfair.org/event/live-walk-in-farmers-market-2-6-pm-2021-08-06/
LOCATION:Gate A\, Marshfield Fairgrounds\, 140 Main St.\, Marshfield\, MA\, 02050\, United States
ORGANIZER;CN="Marshfield Agricultural and Horticultural Society":MAILTO:farmersmarket@marshfieldfair.org
GEO:42.0991716;-70.7178504
X-APPLE-STRUCTURED-LOCATION;VALUE=URI;X-ADDRESS=Gate A Marshfield Fairgrounds 140 Main St. Marshfield MA 02050 United States;X-APPLE-RADIUS=500;X-TITLE=140 Main St.:geo:-70.7178504,42.0991716
END:VEVENT
END:VCALENDAR