BEGIN:VCALENDAR
VERSION:2.0
PRODID:-//Marshfield Fair - ECPv6.15.18//NONSGML v1.0//EN
CALSCALE:GREGORIAN
METHOD:PUBLISH
X-WR-CALNAME:Marshfield Fair
X-ORIGINAL-URL:https://marshfieldfair.org
X-WR-CALDESC:Events for Marshfield Fair
REFRESH-INTERVAL;VALUE=DURATION:PT1H
X-Robots-Tag:noindex
X-PUBLISHED-TTL:PT1H
BEGIN:VTIMEZONE
TZID:America/New_York
BEGIN:DAYLIGHT
TZOFFSETFROM:-0500
TZOFFSETTO:-0400
TZNAME:EDT
DTSTART:20180311T070000
END:DAYLIGHT
BEGIN:STANDARD
TZOFFSETFROM:-0400
TZOFFSETTO:-0500
TZNAME:EST
DTSTART:20181104T060000
END:STANDARD
BEGIN:DAYLIGHT
TZOFFSETFROM:-0500
TZOFFSETTO:-0400
TZNAME:EDT
DTSTART:20190310T070000
END:DAYLIGHT
BEGIN:STANDARD
TZOFFSETFROM:-0400
TZOFFSETTO:-0500
TZNAME:EST
DTSTART:20191103T060000
END:STANDARD
BEGIN:DAYLIGHT
TZOFFSETFROM:-0500
TZOFFSETTO:-0400
TZNAME:EDT
DTSTART:20200308T070000
END:DAYLIGHT
BEGIN:STANDARD
TZOFFSETFROM:-0400
TZOFFSETTO:-0500
TZNAME:EST
DTSTART:20201101T060000
END:STANDARD
END:VTIMEZONE
BEGIN:VEVENT
DTSTART;VALUE=DATE:20190720
DTEND;VALUE=DATE:20190722
DTSTAMP:20260419T151923
CREATED:20190318T180604Z
LAST-MODIFIED:20200512T230221Z
UID:10000115-1563580800-1563753599@marshfieldfair.org
SUMMARY:Circus Smirkus
DESCRIPTION:Presented by Marshfield Education Foundation. \nReturning for a 4th year\, Circus Smirkus is presented by the MEF (Marshfield Education Foundation) non-profit\, and is a kids performing circus tour from Vermont. (No animals) \nFor more information\, visit Circus Smirus
URL:https://marshfieldfair.org/event/circus-smirkus-2/
LOCATION:Marshfield Fairgrounds\, 140 Main Street\, Marshfield\, MA\, 02050
END:VEVENT
END:VCALENDAR