BEGIN:VCALENDAR
VERSION:2.0
PRODID:-//Marshfield Fair - ECPv6.15.18//NONSGML v1.0//EN
CALSCALE:GREGORIAN
METHOD:PUBLISH
X-WR-CALNAME:Marshfield Fair
X-ORIGINAL-URL:https://marshfieldfair.org
X-WR-CALDESC:Events for Marshfield Fair
REFRESH-INTERVAL;VALUE=DURATION:PT1H
X-Robots-Tag:noindex
X-PUBLISHED-TTL:PT1H
BEGIN:VTIMEZONE
TZID:America/New_York
BEGIN:DAYLIGHT
TZOFFSETFROM:-0500
TZOFFSETTO:-0400
TZNAME:EDT
DTSTART:20240310T070000
END:DAYLIGHT
BEGIN:STANDARD
TZOFFSETFROM:-0400
TZOFFSETTO:-0500
TZNAME:EST
DTSTART:20241103T060000
END:STANDARD
BEGIN:DAYLIGHT
TZOFFSETFROM:-0500
TZOFFSETTO:-0400
TZNAME:EDT
DTSTART:20250309T070000
END:DAYLIGHT
BEGIN:STANDARD
TZOFFSETFROM:-0400
TZOFFSETTO:-0500
TZNAME:EST
DTSTART:20251102T060000
END:STANDARD
BEGIN:DAYLIGHT
TZOFFSETFROM:-0500
TZOFFSETTO:-0400
TZNAME:EDT
DTSTART:20260308T070000
END:DAYLIGHT
BEGIN:STANDARD
TZOFFSETFROM:-0400
TZOFFSETTO:-0500
TZNAME:EST
DTSTART:20261101T060000
END:STANDARD
END:VTIMEZONE
BEGIN:VEVENT
DTSTART;TZID=America/New_York:20250808T140000
DTEND;TZID=America/New_York:20250808T180000
DTSTAMP:20260419T214505
CREATED:20250701T171946Z
LAST-MODIFIED:20250707T170034Z
UID:10000177-1754661600-1754676000@marshfieldfair.org
SUMMARY:Marshfield Farmers' Market on Town Green located @ 1981 Ocean St on 7/11!
DESCRIPTION:All local produce\, grass fed meats\, honey\, artisan bread\, bakery items\, select home goods by local artisans.  Free Kids’ Activities\, live music\, SNAP/HIP EBT with matching.
URL:https://marshfieldfair.org/event/marshfield-farmers-market-on-town-green-located-1981-ocean-st-today/2025-08-08/
CATEGORIES:Farmers Market
ATTACH;FMTTYPE=image/jpeg:https://marshfieldfair.org/wp-content/uploads/2021/07/on-the-grass.jpg
END:VEVENT
BEGIN:VEVENT
DTSTART;TZID=America/New_York:20250815T120000
DTEND;TZID=America/New_York:20250824T220000
DTSTAMP:20260419T214505
CREATED:20250316T193811Z
LAST-MODIFIED:20250316T193811Z
UID:10000173-1755259200-1756072800@marshfieldfair.org
SUMMARY:Marshfield Fair
DESCRIPTION:Music\, entertainment\, exhibits\, 4-H\, arts and crafts\, agricultural and horticultural events.\nRides\, games \, food and loads of fun!! \nOpen daily from 12 – 10 pm\, August 15 – 24\, 2025.
URL:https://marshfieldfair.org/event/marshfield-fair/
END:VEVENT
BEGIN:VEVENT
DTSTART;TZID=America/New_York:20250815T140000
DTEND;TZID=America/New_York:20250815T180000
DTSTAMP:20260419T214505
CREATED:20250701T171946Z
LAST-MODIFIED:20250707T170034Z
UID:10000178-1755266400-1755280800@marshfieldfair.org
SUMMARY:Marshfield Farmers' Market on Town Green located @ 1981 Ocean St on 7/11!
DESCRIPTION:All local produce\, grass fed meats\, honey\, artisan bread\, bakery items\, select home goods by local artisans.  Free Kids’ Activities\, live music\, SNAP/HIP EBT with matching.
URL:https://marshfieldfair.org/event/marshfield-farmers-market-on-town-green-located-1981-ocean-st-today/2025-08-15/
CATEGORIES:Farmers Market
ATTACH;FMTTYPE=image/jpeg:https://marshfieldfair.org/wp-content/uploads/2021/07/on-the-grass.jpg
END:VEVENT
BEGIN:VEVENT
DTSTART;TZID=America/New_York:20250822T140000
DTEND;TZID=America/New_York:20250822T180000
DTSTAMP:20260419T214505
CREATED:20250701T171946Z
LAST-MODIFIED:20250707T170034Z
UID:10000179-1755871200-1755885600@marshfieldfair.org
SUMMARY:Marshfield Farmers' Market on Town Green located @ 1981 Ocean St on 7/11!
DESCRIPTION:All local produce\, grass fed meats\, honey\, artisan bread\, bakery items\, select home goods by local artisans.  Free Kids’ Activities\, live music\, SNAP/HIP EBT with matching.
URL:https://marshfieldfair.org/event/marshfield-farmers-market-on-town-green-located-1981-ocean-st-today/2025-08-22/
CATEGORIES:Farmers Market
ATTACH;FMTTYPE=image/jpeg:https://marshfieldfair.org/wp-content/uploads/2021/07/on-the-grass.jpg
END:VEVENT
BEGIN:VEVENT
DTSTART;TZID=America/New_York:20250831T090000
DTEND;TZID=America/New_York:20250831T150000
DTSTAMP:20260419T214505
CREATED:20250316T193315Z
LAST-MODIFIED:20250316T193315Z
UID:10000171-1756630800-1756652400@marshfieldfair.org
SUMMARY:Spindle's Annual Car Show
DESCRIPTION:We are expecting 700+ cars this year!\nWe’ll have all makes & models\, race cars\, food\, music\, vendors\, swap meet\, and more! \nParticipant gate opens at 7 am. Show starts at 9 am and wraps up by 3 pm. Rain date will be Monday\, September 1st. \nSpectators = $8 / Under 12 is FREE\nCar Show Participant = $20\nSpectators = $10
URL:https://marshfieldfair.org/event/spindles-annual-car-show-2/
END:VEVENT
END:VCALENDAR