BEGIN:VCALENDAR
VERSION:2.0
PRODID:-//Marshfield Fair - ECPv6.15.18//NONSGML v1.0//EN
CALSCALE:GREGORIAN
METHOD:PUBLISH
X-WR-CALNAME:Marshfield Fair
X-ORIGINAL-URL:https://marshfieldfair.org
X-WR-CALDESC:Events for Marshfield Fair
REFRESH-INTERVAL;VALUE=DURATION:PT1H
X-Robots-Tag:noindex
X-PUBLISHED-TTL:PT1H
BEGIN:VTIMEZONE
TZID:America/New_York
BEGIN:DAYLIGHT
TZOFFSETFROM:-0500
TZOFFSETTO:-0400
TZNAME:EDT
DTSTART:20240310T070000
END:DAYLIGHT
BEGIN:STANDARD
TZOFFSETFROM:-0400
TZOFFSETTO:-0500
TZNAME:EST
DTSTART:20241103T060000
END:STANDARD
BEGIN:DAYLIGHT
TZOFFSETFROM:-0500
TZOFFSETTO:-0400
TZNAME:EDT
DTSTART:20250309T070000
END:DAYLIGHT
BEGIN:STANDARD
TZOFFSETFROM:-0400
TZOFFSETTO:-0500
TZNAME:EST
DTSTART:20251102T060000
END:STANDARD
BEGIN:DAYLIGHT
TZOFFSETFROM:-0500
TZOFFSETTO:-0400
TZNAME:EDT
DTSTART:20260308T070000
END:DAYLIGHT
BEGIN:STANDARD
TZOFFSETFROM:-0400
TZOFFSETTO:-0500
TZNAME:EST
DTSTART:20261101T060000
END:STANDARD
END:VTIMEZONE
BEGIN:VEVENT
DTSTART;TZID=America/New_York:20250711T140000
DTEND;TZID=America/New_York:20250711T180000
DTSTAMP:20260419T201351
CREATED:20250707T170051Z
LAST-MODIFIED:20250707T170051Z
UID:10000176-1752242400-1752256800@marshfieldfair.org
SUMMARY:Marshfield Farmers' Market on Town Green located @ 1981 Ocean St on 7/11!
DESCRIPTION:All local produce\, grass fed meats\, honey\, artisan bread\, bakery items\, select home goods by local artisans.  Free Kids’ Activities\, live music\, SNAP/HIP EBT with matching.
URL:https://marshfieldfair.org/event/marshfield-farmers-market-on-town-green-located-1981-ocean-st-today-2/
CATEGORIES:Farmers Market
ATTACH;FMTTYPE=image/jpeg:https://marshfieldfair.org/wp-content/uploads/2021/07/on-the-grass.jpg
END:VEVENT
BEGIN:VEVENT
DTSTART;TZID=America/New_York:20250712T123000
DTEND;TZID=America/New_York:20250713T213000
DTSTAMP:20260419T201351
CREATED:20220331T212315Z
LAST-MODIFIED:20250608T010118Z
UID:10000037-1752323400-1752442200@marshfieldfair.org
SUMMARY:Levitate Music and Arts Festival
DESCRIPTION:Levitate’s signature summertime celebration of music and art that brings\nthe Levitate community together and brings world class music and\nart with our area\, as well as providing a platform to share our\ncommunity’s talented musicians and artists with the world.
URL:https://marshfieldfair.org/event/levitate-music-and-arts-festival-2/
END:VEVENT
BEGIN:VEVENT
DTSTART;TZID=America/New_York:20250729T110000
DTEND;TZID=America/New_York:20250730T190000
DTSTAMP:20260419T201351
CREATED:20220717T002918Z
LAST-MODIFIED:20250608T010406Z
UID:10000038-1753786800-1753902000@marshfieldfair.org
SUMMARY:Circus Smirkus
DESCRIPTION:Every summer\, a freshly auditioned company of Smirkus Troupers\, ages 10 to 18\, take to the road in traditional mud show fashion for a two-month performance tour of New England. Backed by professional coaches\, cooks\, musicians and crew\, our Smirkos perform to sell-out crowds in Circus Smirkus’ very own 750-seat European-style one-ring big top tent. \n\nEach year brings a new storyline and original full-length show combining the best in traditional and contemporary circus styles. We give our Troupers the full experience of touring in a classic traveling tent show. That means a complete immersion in circus life. Smirkos endure rigorous training\, daily chores and the loading in and loading out of the Big Top. They revel in the joy of performance and the camaraderie of a common purpose — the passion of a shared dream and nearly 50 shows in just six weeks!\n\n\nJuly 29 & 30 – 11:00 am & 7:00 pm
URL:https://marshfieldfair.org/event/circus-smirkus/
END:VEVENT
END:VCALENDAR