BEGIN:VCALENDAR
VERSION:2.0
PRODID:-//Marshfield Fair - ECPv6.15.18//NONSGML v1.0//EN
CALSCALE:GREGORIAN
METHOD:PUBLISH
X-WR-CALNAME:Marshfield Fair
X-ORIGINAL-URL:https://marshfieldfair.org
X-WR-CALDESC:Events for Marshfield Fair
REFRESH-INTERVAL;VALUE=DURATION:PT1H
X-Robots-Tag:noindex
X-PUBLISHED-TTL:PT1H
BEGIN:VTIMEZONE
TZID:America/New_York
BEGIN:DAYLIGHT
TZOFFSETFROM:-0500
TZOFFSETTO:-0400
TZNAME:EDT
DTSTART:20220313T070000
END:DAYLIGHT
BEGIN:STANDARD
TZOFFSETFROM:-0400
TZOFFSETTO:-0500
TZNAME:EST
DTSTART:20221106T060000
END:STANDARD
BEGIN:DAYLIGHT
TZOFFSETFROM:-0500
TZOFFSETTO:-0400
TZNAME:EDT
DTSTART:20230312T070000
END:DAYLIGHT
BEGIN:STANDARD
TZOFFSETFROM:-0400
TZOFFSETTO:-0500
TZNAME:EST
DTSTART:20231105T060000
END:STANDARD
BEGIN:DAYLIGHT
TZOFFSETFROM:-0500
TZOFFSETTO:-0400
TZNAME:EDT
DTSTART:20240310T070000
END:DAYLIGHT
BEGIN:STANDARD
TZOFFSETFROM:-0400
TZOFFSETTO:-0500
TZNAME:EST
DTSTART:20241103T060000
END:STANDARD
END:VTIMEZONE
BEGIN:VEVENT
DTSTART;TZID=America/New_York:20230520T100000
DTEND;TZID=America/New_York:20230520T130000
DTSTAMP:20260419T133104
CREATED:20250705T205450Z
LAST-MODIFIED:20250705T205450Z
UID:10000022-1684576800-1684587600@marshfieldfair.org
SUMMARY:Walk-in Farmers' Market at the Grandstands
DESCRIPTION:Live walk-in and Pre-order for pick up market\nLive Music\nIndoor/Outdoor\, at the grandstand
URL:https://marshfieldfair.org/event/walk-in-farmers-market-at-the-grandstands/
LOCATION:Gate A\, Marshfield Fairgrounds\, 140 Main St.\, Marshfield\, MA\, 02050\, United States
GEO:42.0991716;-70.7178504
X-APPLE-STRUCTURED-LOCATION;VALUE=URI;X-ADDRESS=Gate A Marshfield Fairgrounds 140 Main St. Marshfield MA 02050 United States;X-APPLE-RADIUS=500;X-TITLE=140 Main St.:geo:-70.7178504,42.0991716
END:VEVENT
END:VCALENDAR