BEGIN:VCALENDAR
VERSION:2.0
PRODID:-//Marshfield Fair - ECPv6.15.20//NONSGML v1.0//EN
CALSCALE:GREGORIAN
METHOD:PUBLISH
X-ORIGINAL-URL:https://marshfieldfair.org
X-WR-CALDESC:Events for Marshfield Fair
REFRESH-INTERVAL;VALUE=DURATION:PT1H
X-Robots-Tag:noindex
X-PUBLISHED-TTL:PT1H
BEGIN:VTIMEZONE
TZID:America/New_York
BEGIN:DAYLIGHT
TZOFFSETFROM:-0500
TZOFFSETTO:-0400
TZNAME:EDT
DTSTART:20200308T070000
END:DAYLIGHT
BEGIN:STANDARD
TZOFFSETFROM:-0400
TZOFFSETTO:-0500
TZNAME:EST
DTSTART:20201101T060000
END:STANDARD
BEGIN:DAYLIGHT
TZOFFSETFROM:-0500
TZOFFSETTO:-0400
TZNAME:EDT
DTSTART:20210314T070000
END:DAYLIGHT
BEGIN:STANDARD
TZOFFSETFROM:-0400
TZOFFSETTO:-0500
TZNAME:EST
DTSTART:20211107T060000
END:STANDARD
BEGIN:DAYLIGHT
TZOFFSETFROM:-0500
TZOFFSETTO:-0400
TZNAME:EDT
DTSTART:20220313T070000
END:DAYLIGHT
BEGIN:STANDARD
TZOFFSETFROM:-0400
TZOFFSETTO:-0500
TZNAME:EST
DTSTART:20221106T060000
END:STANDARD
END:VTIMEZONE
BEGIN:VEVENT
DTSTART;TZID=America/New_York:20211002T100000
DTEND;TZID=America/New_York:20211002T190000
DTSTAMP:20260425T191216
CREATED:20210626T003520Z
LAST-MODIFIED:20210626T003520Z
UID:10000103-1633168800-1633201200@marshfieldfair.org
SUMMARY:Italian Cultural Festival
DESCRIPTION:Celebrating Italian and Italian-American Culture: La Dolce Vita\n\n\n\n\n\n\n\n\n\nItalians love to come together and celebrate\, no matter the reason. Whether you’re a fan of tasty food\, good drinks or live music\, the Italian Cultural Festival will be an event for the whole family. It is a day full of tradition\, celebrating Italian culture\, and local craftsmanship.
URL:https://marshfieldfair.org/event/italian-cultural-festival/
END:VEVENT
BEGIN:VEVENT
DTSTART;TZID=America/New_York:20211009T140000
DTEND;TZID=America/New_York:20211009T200000
DTSTAMP:20260425T191216
CREATED:20191010T203035Z
LAST-MODIFIED:20210829T222700Z
UID:10000102-1633788000-1633809600@marshfieldfair.org
SUMMARY:Flannel Jam
DESCRIPTION:Hoot and Holla!  Levitate has announced Flannel Jam\, a multi-date\, fall-themed end of season celebration featuring hot cider doughnuts\, hot cider & whiskey\, smores\, and kids cornpool/hay maze.  The tour rips through New England on Columbus Day weeekend with three stops. one in Marshfield\, Ma\, Portland Me\, and Nantucket.
URL:https://marshfieldfair.org/event/flannel-jam/
END:VEVENT
BEGIN:VEVENT
DTSTART;TZID=America/New_York:20211028T170000
DTEND;TZID=America/New_York:20211031T220000
DTSTAMP:20260425T191216
CREATED:20210909T011159Z
LAST-MODIFIED:20210925T223202Z
UID:10000024-1635440400-1635717600@marshfieldfair.org
SUMMARY:Cabin Fever Laser Show
DESCRIPTION:Drive – in Laser Light Show – Family oriented laser show \nTIME OF EVENT: Open:      Closing\nThursday         5pm         9pm\nFriday              5pm         10pm\nSaturday         5pm          10pm\nSunday            5pm          9pm
URL:https://marshfieldfair.org/event/cabin-fever-laser-show/
ORGANIZER;CN="Hot Air Balloon Management":MAILTO:info@cabinfeverlasershow.com
END:VEVENT
BEGIN:VEVENT
DTSTART;VALUE=DATE:20211030
DTEND;VALUE=DATE:20211031
DTSTAMP:20260425T191216
CREATED:20210915T223745Z
LAST-MODIFIED:20210915T223745Z
UID:10000023-1635552000-1635638399@marshfieldfair.org
SUMMARY:Patriot League XC Championships
DESCRIPTION:Patriot League XC Championships
URL:https://marshfieldfair.org/event/patriot-league-xc-championships/
END:VEVENT
END:VCALENDAR