BEGIN:VCALENDAR
VERSION:2.0
PRODID:-//Marshfield Fair - ECPv6.15.18//NONSGML v1.0//EN
CALSCALE:GREGORIAN
METHOD:PUBLISH
X-WR-CALNAME:Marshfield Fair
X-ORIGINAL-URL:https://marshfieldfair.org
X-WR-CALDESC:Events for Marshfield Fair
REFRESH-INTERVAL;VALUE=DURATION:PT1H
X-Robots-Tag:noindex
X-PUBLISHED-TTL:PT1H
BEGIN:VTIMEZONE
TZID:America/New_York
BEGIN:DAYLIGHT
TZOFFSETFROM:-0500
TZOFFSETTO:-0400
TZNAME:EDT
DTSTART:20180311T070000
END:DAYLIGHT
BEGIN:STANDARD
TZOFFSETFROM:-0400
TZOFFSETTO:-0500
TZNAME:EST
DTSTART:20181104T060000
END:STANDARD
BEGIN:DAYLIGHT
TZOFFSETFROM:-0500
TZOFFSETTO:-0400
TZNAME:EDT
DTSTART:20190310T070000
END:DAYLIGHT
BEGIN:STANDARD
TZOFFSETFROM:-0400
TZOFFSETTO:-0500
TZNAME:EST
DTSTART:20191103T060000
END:STANDARD
BEGIN:DAYLIGHT
TZOFFSETFROM:-0500
TZOFFSETTO:-0400
TZNAME:EDT
DTSTART:20200308T070000
END:DAYLIGHT
BEGIN:STANDARD
TZOFFSETFROM:-0400
TZOFFSETTO:-0500
TZNAME:EST
DTSTART:20201101T060000
END:STANDARD
END:VTIMEZONE
BEGIN:VTIMEZONE
TZID:America/New_York
BEGIN:DAYLIGHT
TZOFFSETFROM:-0500
TZOFFSETTO:-0400
TZNAME:EDT
DTSTART:20170312T070000
END:DAYLIGHT
BEGIN:STANDARD
TZOFFSETFROM:-0400
TZOFFSETTO:-0500
TZNAME:EST
DTSTART:20171105T060000
END:STANDARD
BEGIN:DAYLIGHT
TZOFFSETFROM:-0500
TZOFFSETTO:-0400
TZNAME:EDT
DTSTART:20180311T070000
END:DAYLIGHT
BEGIN:STANDARD
TZOFFSETFROM:-0400
TZOFFSETTO:-0500
TZNAME:EST
DTSTART:20181104T060000
END:STANDARD
BEGIN:DAYLIGHT
TZOFFSETFROM:-0500
TZOFFSETTO:-0400
TZNAME:EDT
DTSTART:20190310T070000
END:DAYLIGHT
BEGIN:STANDARD
TZOFFSETFROM:-0400
TZOFFSETTO:-0500
TZNAME:EST
DTSTART:20191103T060000
END:STANDARD
END:VTIMEZONE
BEGIN:VEVENT
DTSTART;TZID=America/New_York:20190525T110000
DTEND;TZID=America/New_York:20190526T180000
DTSTAMP:20260419T220530
CREATED:20190509T222425Z
LAST-MODIFIED:20190509T222450Z
UID:10000105-1558782000-1558893600@marshfieldfair.org
SUMMARY:26TH ANNUAL SPRING PLANTING MOON POW-WOW
DESCRIPTION:Saturday & Sunday\, May 25-26\, 2019 \nMarshfield Fairgrounds\n140 Main Street\nMarshfield\, MA\n\nGates open from 11AM – 6PM both days\nGrand Entry at 12:30 PM\nEmcee:  Earl “Chiefie” Mills\nConfirmed Drums:  Eastern Suns Singers * Split Feather Singers \n\n\n\nWe invite you to join us as we celebrate the Spring Planting Moon at our annual pow-wow.  Through song\, dance and storytelling\, we’ll thank Mother Earth for the three main staples that we plant annually around this time for the sustenance of our families….beans\, corn and squash. Within most Native traditions\, they are known as The Three Sisters.\n\n\nCOME WATCH & LEARN\n~ Cultural Dance Presentation – At this years’ Pow-wow\, we will feature the Kalpulli Huehuetlahtolli Aztec Dance Troupe – a professional Aztec dance group that performs throughout the Country. These high impact dances honor centuries of indigenous culture and traditions. Listen to Eddie as he explains the meaning behind the dances.\n\n  \n  \n 
URL:https://marshfieldfair.org/event/26th-annual-spring-planting-moon-pow-wow/
LOCATION:MA
END:VEVENT
BEGIN:VEVENT
DTSTART;TZID=America/New_York:20190518T100000
DTEND;TZID=America/New_York:20190518T140000
DTSTAMP:20260419T220530
CREATED:20181120T013010Z
LAST-MODIFIED:20200221T164949Z
UID:10000110-1558173600-1558188000@marshfieldfair.org
SUMMARY:Winter Indoor Farmers' Market
DESCRIPTION:Farmers\, chefs\, and artisans. Parking/admission free\, live music\, easy access\, dogs ok\, SNAP/HIP/WIC\nOccurs on the 3rd Saturday of each month November through May\, 10 am – 2 pm.
URL:https://marshfieldfair.org/event/winter-indoor-farmers-market/2019-05-18/
LOCATION:MA
CATEGORIES:Farmers Market
END:VEVENT
BEGIN:VEVENT
DTSTART;TZID=America/New_York:20190420T100000
DTEND;TZID=America/New_York:20190420T140000
DTSTAMP:20260419T220530
CREATED:20181120T013010Z
LAST-MODIFIED:20200221T164949Z
UID:10000109-1555754400-1555768800@marshfieldfair.org
SUMMARY:Winter Indoor Farmers' Market
DESCRIPTION:Farmers\, chefs\, and artisans. Parking/admission free\, live music\, easy access\, dogs ok\, SNAP/HIP/WIC\nOccurs on the 3rd Saturday of each month November through May\, 10 am – 2 pm.
URL:https://marshfieldfair.org/event/winter-indoor-farmers-market/2019-04-20/
LOCATION:MA
CATEGORIES:Farmers Market
END:VEVENT
BEGIN:VEVENT
DTSTART;TZID=America/New_York:20190331T100000
DTEND;TZID=America/New_York:20190331T120000
DTSTAMP:20260419T220530
CREATED:20190219T170354Z
LAST-MODIFIED:20190219T170354Z
UID:10000114-1554026400-1554033600@marshfieldfair.org
SUMMARY:Garden Planning Workshop
DESCRIPTION:Spring into planting season with a strong plan! Workshop  Info/Tix
URL:https://marshfieldfair.org/event/garden-planning-workshop/
LOCATION:MA
END:VEVENT
BEGIN:VEVENT
DTSTART;TZID=America/New_York:20190316T100000
DTEND;TZID=America/New_York:20190316T140000
DTSTAMP:20260419T220530
CREATED:20181120T013010Z
LAST-MODIFIED:20200221T164949Z
UID:10000108-1552730400-1552744800@marshfieldfair.org
SUMMARY:Winter Indoor Farmers' Market
DESCRIPTION:Farmers\, chefs\, and artisans. Parking/admission free\, live music\, easy access\, dogs ok\, SNAP/HIP/WIC\nOccurs on the 3rd Saturday of each month November through May\, 10 am – 2 pm.
URL:https://marshfieldfair.org/event/winter-indoor-farmers-market/2019-03-16/
LOCATION:MA
CATEGORIES:Farmers Market
END:VEVENT
BEGIN:VEVENT
DTSTART;VALUE=DATE:20180922
DTEND;VALUE=DATE:20180923
DTSTAMP:20260419T220530
CREATED:20180307T014750Z
LAST-MODIFIED:20180320T161736Z
UID:10000148-1537574400-1537660799@marshfieldfair.org
SUMMARY:4-H Fall Festival
DESCRIPTION:
URL:https://marshfieldfair.org/event/4-h-fall-festival/
LOCATION:MA
CATEGORIES:Offseason
END:VEVENT
BEGIN:VEVENT
DTSTART;TZID=America/New_York:20180816T160000
DTEND;TZID=America/New_York:20180816T190000
DTSTAMP:20260419T220530
CREATED:20180808T030805Z
LAST-MODIFIED:20180808T030805Z
UID:10000121-1534435200-1534446000@marshfieldfair.org
SUMMARY:Agriculture & Horticulture Entry Day
DESCRIPTION:How did your garden grow?  Enter your flowers and vegetables in this year’s fair!  Entries will be accepted today from 2-7 pm.  Don’t miss your chance to win a blue ribbon! \n  \nVisit Marshfield Fair – Exhibitors – Agriculture or Horticulture for complete rules and contests.
URL:https://marshfieldfair.org/event/agriculture-horticulture-entry-day/
LOCATION:MA
END:VEVENT
BEGIN:VEVENT
DTSTART;TZID=America/New_York:20180812T080000
DTEND;TZID=America/New_York:20180812T170000
DTSTAMP:20260419T220530
CREATED:20180808T025205Z
LAST-MODIFIED:20180808T030955Z
UID:10000120-1534060800-1534093200@marshfieldfair.org
SUMMARY:Last Day for Arts & Crafts & Photography Entries
DESCRIPTION:Today is your last chance to enter your art work\, crafts and photography in this year’s fair.  Entries will be accepted today between 10 – 4 in Agricultural Hall. Don’t miss your chance to win a blue ribbon at this year’s fair! \nVisit Marshfield Fair – Exhibitors – Arts & Crafts for a complete list of rules and contests.
URL:https://marshfieldfair.org/event/last-day-for-arts-crafts-photography-entries/
LOCATION:MA
END:VEVENT
BEGIN:VEVENT
DTSTART;TZID=America/New_York:20180811T100000
DTEND;TZID=America/New_York:20180811T160000
DTSTAMP:20260419T220530
CREATED:20180808T024722Z
LAST-MODIFIED:20180808T031301Z
UID:10000119-1533981600-1534003200@marshfieldfair.org
SUMMARY:Arts & Crafts & Photography Entry Day
DESCRIPTION:Enter your art work\, crafts and photography today and tomorrow from 10-4 in Agricultural Hall.\nDon’t miss your chance to win a blue ribbon at this year’s fair! \nVisit Marshfield Fair – Exhibitors – Arts & Crafts for a complete list of rules and contests.
URL:https://marshfieldfair.org/event/arts-crafts-photography-entry-day/
LOCATION:MA
END:VEVENT
BEGIN:VEVENT
DTSTART;TZID=America/New_York:20180505T070000
DTEND;TZID=America/New_York:20180505T100000
DTSTAMP:20260419T220530
CREATED:20180415T001003Z
LAST-MODIFIED:20180415T001003Z
UID:10000149-1525503600-1525514400@marshfieldfair.org
SUMMARY:SRS SPRING SPRINT 5K
DESCRIPTION:Sponsored by the South River Elementary School PTO \nContact Tamara Lovuolo at 617-686-2506 for more information
URL:https://marshfieldfair.org/event/srs-spring-sprint-5k/
LOCATION:MA
END:VEVENT
END:VCALENDAR