BEGIN:VCALENDAR
VERSION:2.0
PRODID:-//Marshfield Fair - ECPv6.15.18//NONSGML v1.0//EN
CALSCALE:GREGORIAN
METHOD:PUBLISH
X-WR-CALNAME:Marshfield Fair
X-ORIGINAL-URL:https://marshfieldfair.org
X-WR-CALDESC:Events for Marshfield Fair
REFRESH-INTERVAL;VALUE=DURATION:PT1H
X-Robots-Tag:noindex
X-PUBLISHED-TTL:PT1H
BEGIN:VTIMEZONE
TZID:America/New_York
BEGIN:DAYLIGHT
TZOFFSETFROM:-0500
TZOFFSETTO:-0400
TZNAME:EDT
DTSTART:20240310T070000
END:DAYLIGHT
BEGIN:STANDARD
TZOFFSETFROM:-0400
TZOFFSETTO:-0500
TZNAME:EST
DTSTART:20241103T060000
END:STANDARD
BEGIN:DAYLIGHT
TZOFFSETFROM:-0500
TZOFFSETTO:-0400
TZNAME:EDT
DTSTART:20250309T070000
END:DAYLIGHT
BEGIN:STANDARD
TZOFFSETFROM:-0400
TZOFFSETTO:-0500
TZNAME:EST
DTSTART:20251102T060000
END:STANDARD
BEGIN:DAYLIGHT
TZOFFSETFROM:-0500
TZOFFSETTO:-0400
TZNAME:EDT
DTSTART:20260308T070000
END:DAYLIGHT
BEGIN:STANDARD
TZOFFSETFROM:-0400
TZOFFSETTO:-0500
TZNAME:EST
DTSTART:20261101T060000
END:STANDARD
END:VTIMEZONE
BEGIN:VEVENT
DTSTART;TZID=America/New_York:20250914T080000
DTEND;TZID=America/New_York:20250914T170000
DTSTAMP:20260420T005727
CREATED:20250316T192847Z
LAST-MODIFIED:20250608T010601Z
UID:10000170-1757836800-1757869200@marshfieldfair.org
SUMMARY:Tri Town Rotary Flea Market
DESCRIPTION:TRI-TOWN ROTARY  \nHanover\, Norwell & Pembroke Rotary Club \nSOUTH SHORE’S  LARGEST FLEA MARKET\nFall 2025 \nSUNDAY\,  September 14 – Rain or Shine \nADMISSION IS $5.00 \nChildren 12 & under are FREE!! \nParking is FREE!! \nThis is a Semi-Annual event and is the longest running Flea Market on the South Shore. Items offered for sale include antiques\, tools\, crafts\, household items\, furniture\, honey products and collectibles.\nEarly Birds can enter at 7 AM for an additional $5.00! All proceeds to benefit local charities and families in need!
URL:https://marshfieldfair.org/event/tri-town-rotary-flea-market/
END:VEVENT
END:VCALENDAR