BEGIN:VCALENDAR
VERSION:2.0
PRODID:-//Marshfield Fair - ECPv6.15.20//NONSGML v1.0//EN
CALSCALE:GREGORIAN
METHOD:PUBLISH
X-ORIGINAL-URL:https://marshfieldfair.org
X-WR-CALDESC:Events for Marshfield Fair
REFRESH-INTERVAL;VALUE=DURATION:PT1H
X-Robots-Tag:noindex
X-PUBLISHED-TTL:PT1H
BEGIN:VTIMEZONE
TZID:America/New_York
BEGIN:DAYLIGHT
TZOFFSETFROM:-0500
TZOFFSETTO:-0400
TZNAME:EDT
DTSTART:20200308T070000
END:DAYLIGHT
BEGIN:STANDARD
TZOFFSETFROM:-0400
TZOFFSETTO:-0500
TZNAME:EST
DTSTART:20201101T060000
END:STANDARD
BEGIN:DAYLIGHT
TZOFFSETFROM:-0500
TZOFFSETTO:-0400
TZNAME:EDT
DTSTART:20210314T070000
END:DAYLIGHT
BEGIN:STANDARD
TZOFFSETFROM:-0400
TZOFFSETTO:-0500
TZNAME:EST
DTSTART:20211107T060000
END:STANDARD
BEGIN:DAYLIGHT
TZOFFSETFROM:-0500
TZOFFSETTO:-0400
TZNAME:EDT
DTSTART:20220313T070000
END:DAYLIGHT
BEGIN:STANDARD
TZOFFSETFROM:-0400
TZOFFSETTO:-0500
TZNAME:EST
DTSTART:20221106T060000
END:STANDARD
END:VTIMEZONE
BEGIN:VEVENT
DTSTART;TZID=America/New_York:20211009T140000
DTEND;TZID=America/New_York:20211009T200000
DTSTAMP:20260425T203427
CREATED:20191010T203035Z
LAST-MODIFIED:20210829T222700Z
UID:10000102-1633788000-1633809600@marshfieldfair.org
SUMMARY:Flannel Jam
DESCRIPTION:Hoot and Holla!  Levitate has announced Flannel Jam\, a multi-date\, fall-themed end of season celebration featuring hot cider doughnuts\, hot cider & whiskey\, smores\, and kids cornpool/hay maze.  The tour rips through New England on Columbus Day weeekend with three stops. one in Marshfield\, Ma\, Portland Me\, and Nantucket.
URL:https://marshfieldfair.org/event/flannel-jam/
END:VEVENT
END:VCALENDAR